Workbook
Name ClassName: Clasa!$B$1
Name ProgressChartLabels: OFFSET(ProgressChartValues,1,0)
Name ProgressChartStudentValues: IFERROR(OFFSET(StudentGradesStart,,,,COUNT(ProgressChartValues)),0)
Name ProgressChartValues: TotalAssignmentPoints[]
Name StudentGradesStart: INDEX(Clasa!$G$5:$I$9,MATCH(StudentName,StudentData[Numele si prenumele elevului],0),1)
Name StudentLookup: StudentData[Numele si prenumele elevului]
Name StudentName: 'Sumar elev'!$B$8
Name TeacherName: Clasa!$B$3
Name TotalPoints: Clasa!$F$3

Sheet Coperta
H2: Anul scolar: | J2: 2011-2012
C5: Fisa de analiza a notelor acordate in data | J5: 21.11.2011
C6: la disciplina | J6: Filosofie
C7: pe baza itemilor de evaluare/competentelor vizate
C9: Rezultatele inregistrate de | H9: Clasa a XII-A
C11: Rezultatele individuale
C14: Institutia de invatamant | H14: Grupul Scolar "Danubius" Calarasi
C16: Cadrul didactic | H16: prof. Dumitrel Toma
C18: Media clasei | H18: =StudentData[[#Totals],[Nota finala]] -> 6.802

Sheet Clasa
B1: =Coperta!H14 -> Grupul Scolar "Danubius" Calarasi | G1: Item1: Competentele 1.1, 2.1 | H1: Item 2: Competentele 1.2, 2.2 | I1: Item 3: Competentele 1.3, 2.3
B2: =Coperta!J2 -> 2011-2012 | C2: =Coperta!H9 -> Clasa a XII-A | F2: Data evaluarii | G2: =Coperta!J5 -> 21.11.2011
B3: =Coperta!H16 -> prof. Dumitrel Toma | C3: =Coperta!J6 -> Filosofie | E3: Numar total de puncte | F3: 9 | G3: 3 | H3: 3 | I3: 3
B4: Numele si prenumele elevului | C4: Nivelul de performanta | D4: Nota finala | E4: % | F4: Total puncte | G4: Item 1: Competentele 1.1, 2.1 | H4: Item 2: Competentele 1.2, 2.2 | I4: Item 3: Competentele 1.3, 2.3
B5: Alexandru Ionut | C5: =StudentData[[#This Row],[Total puncte]] -> 6.2 | D5: =(StudentData[[#This Row],[Total puncte]])+1 -> 7.2 | E5: =IFERROR(StudentData[[#This Row],[Total puncte]]/TotalPoints,"") -> 0.68888889 | F5: =IFERROR(SUM(StudentData[[#This Row],[Item 1: Competentele 1.1, 2.1]]:OFFSET(F5,,COUNTA(TotalAssignmentPoints[]))),"") -> 6.2 | G5: 1.2 | H5: 2 | I5: 3
B6: Vasile Daniel | C6: =StudentData[[#This Row],[Total puncte]] -> 7.1 | D6: =(StudentData[[#This Row],[Total puncte]])+1 -> 8.1 | E6: =IFERROR(StudentData[[#This Row],[Total puncte]]/TotalPoints,"") -> 0.78888889 | F6: =IFERROR(SUM(StudentData[[#This Row],[Item 1: Competentele 1.1, 2.1]]:OFFSET(F6,,COUNTA(TotalAssignmentPoints[]))),"") -> 7.1 | G6: 3 | H6: 2.1 | I6: 2
B7: Gherghina Sabin | C7: =StudentData[[#This Row],[Total puncte]] -> 4.11 | D7: =(StudentData[[#This Row],[Total puncte]])+1 -> 5.11 | E7: =IFERROR(StudentData[[#This Row],[Total puncte]]/TotalPoints,"") -> 0.45666667 | F7: =IFERROR(SUM(StudentData[[#This Row],[Item 1: Competentele 1.1, 2.1]]:OFFSET(F7,,COUNTA(TotalAssignmentPoints[]))),"") -> 4.11 | G7: 2.11 | H7: 1 | I7: 1
B8: Popescu Ionela | C8: =StudentData[[#This Row],[Total puncte]] -> 6.5 | D8: =(StudentData[[#This Row],[Total puncte]])+1 -> 7.5 | E8: =IFERROR(StudentData[[#This Row],[Total puncte]]/TotalPoints,"") -> 0.72222222 | F8: =IFERROR(SUM(StudentData[[#This Row],[Item 1: Competentele 1.1, 2.1]]:OFFSET(F8,,COUNTA(TotalAssignmentPoints[]))),"") -> 6.5 | G8: 2.3 | H8: 2.2 | I8: 2
B9: Ionescu Ana-Maria | C9: =StudentData[[#This Row],[Total puncte]] -> 5.1 | D9: =(StudentData[[#This Row],[Total puncte]])+1 -> 6.1 | E9: =IFERROR(StudentData[[#This Row],[Total puncte]]/TotalPoints,"") -> 0.56666667 | F9: =IFERROR(SUM(StudentData[[#This Row],[Item 1: Competentele 1.1, 2.1]]:OFFSET(F9,,COUNTA(TotalAssignmentPoints[]))),"") -> 5.1 | G9: 0 | H9: 2.1 | I9: 3
B10: Media clasei | D10: =SUBTOTAL(101,[Nota finala]) -> 6.802 | E10: =SUBTOTAL(101,[%]) -> 0.64466667 | F10: =SUBTOTAL(101,[Total puncte]) -> 5.802 | G10: =SUBTOTAL(101,[Item 1: Competentele 1.1, 2.1]) -> 1.722 | H10: =SUBTOTAL(101,[Item 2: Competentele 1.2, 2.2]) -> 1.88 | I10: =SUBTOTAL(101,[Item 3: Competentele 1.3, 2.3]) -> 2.2
E11: =IFERROR(StudentData[[#This Row],[Total puncte]]/TotalPoints,"") | F11: =IFERROR(SUM(StudentData[[#This Row],[Item 1: Competentele 1.1, 2.1]]:OFFSET(F11,,COUNTA(TotalAssignmentPoints[]))),"")

Sheet Sumar elev
A1: =Coperta!H14 -> Grupul Scolar "Danubius" Calarasi
B2: =Coperta!H16 -> prof. Dumitrel Toma
B3: =Coperta!H9 -> Clasa a XII-A | C3: =Coperta!J2 -> 2011-2012
B4: Filosofie
B5: Analiza notei acordate in:
B6: =Coperta!J5 -> 21.11.2011
B7: Numele elevului:
B8: Popescu Ionela
B11: Situatia elevului | D11: Nota finala | E11: Procentul | F11: Punctaj obtinut | G11: Punctaj maxim | H11: Punctaj - oficiu
B12: =IFERROR(_xlfn.RANK.EQ(VLOOKUP(B8,StudentData[],5,FALSE),StudentData[Total puncte]) & " out of "&COUNTA(StudentData[Numele si prenumele elevului]) & " students","") | D12: =F12+1 -> 7.5 | E12: =IFERROR(VLOOKUP(StudentName,StudentData[],4,FALSE),"") -> 0.72222222 | F12: =IFERROR(VLOOKUP(StudentName,StudentData[],5,FALSE),"") -> 6.5 | G12: =TotalPoints -> 9 | H12: 1
B35: Comentariile profesorului
B48: Semnatura parintelui (daca este necesara)
B51: X | F51: Data:
